BEGIN:VCALENDAR
VERSION:2.0
PRODID:-//Plone.org//NONSGML plone.app.event//EN
X-WR-TIMEZONE:US/Central
BEGIN:VEVENT
SUMMARY:Wild About Fire
DTSTART;TZID=US/Central;VALUE=DATE-TIME:20250222T140000
DTEND;TZID=US/Central;VALUE=DATE-TIME:20250222T144500
DTSTAMP;VALUE=DATE-TIME:20260420T182452Z
UID:f320a49c3bfc45b6975c93e1301efba7
CONTACT:Christopher Lindley\, (903) 572-5531\, christopher.lindley@tpwd.te
 xas.gov
CREATED;VALUE=DATE-TIME:20250117T170731Z
DESCRIPTION:Discover the power of prescribed burns!
LAST-MODIFIED;VALUE=DATE-TIME:20250207T205939Z
URL:https://tpwd.texas.gov/calendar/lake-bob-sandlin/wild-about-fire/2025-
 02-22
END:VEVENT
BEGIN:VTIMEZONE
TZID:US/Central
X-LIC-LOCATION:US/Central
BEGIN:STANDARD
DTSTART;VALUE=DATE-TIME:20241103T010000
TZNAME:CST
TZOFFSETFROM:-0500
TZOFFSETTO:-0600
END:STANDARD
END:VTIMEZONE
END:VCALENDAR
