BEGIN:VCALENDAR
VERSION:2.0
PRODID:-//Plone.org//NONSGML plone.app.event//EN
X-WR-TIMEZONE:US/Central
BEGIN:VEVENT
SUMMARY:Night Hike *Cancelled* (Reservation Required)
DTSTART;TZID=US/Central;VALUE=DATE-TIME:20260307T190000
DTEND;TZID=US/Central;VALUE=DATE-TIME:20260307T200000
DTSTAMP;VALUE=DATE-TIME:20260420T070809Z
UID:094774b861394582ad447fe26e470d3b
CONTACT:Nikki Morris\, (325) 784-5223\, lakebrownwoodsp@tpwd.texas.gov
CREATED;VALUE=DATE-TIME:20240201T155732Z
DESCRIPTION:Come join us to observe wildlife at night!
LAST-MODIFIED;VALUE=DATE-TIME:20260305T161526Z
URL:https://tpwd.texas.gov/calendar/lake-brownwood/night-hike-4
END:VEVENT
BEGIN:VTIMEZONE
TZID:US/Central
X-LIC-LOCATION:US/Central
BEGIN:STANDARD
DTSTART;VALUE=DATE-TIME:20251102T010000
TZNAME:CST
TZOFFSETFROM:-0500
TZOFFSETTO:-0600
END:STANDARD
END:VTIMEZONE
END:VCALENDAR
