BEGIN:VCALENDAR
VERSION:2.0
PRODID:-//Plone.org//NONSGML plone.app.event//EN
X-WR-TIMEZONE:US/Central
BEGIN:VEVENT
SUMMARY:Self-Guided Birding Hike
DTSTART;TZID=US/Central;VALUE=DATE-TIME:20260311T083000
DTEND;TZID=US/Central;VALUE=DATE-TIME:20260311T104500
DTSTAMP;VALUE=DATE-TIME:20260420T055743Z
UID:c447eca1e1fa45c5a3e51bbbd83dc68f
RRULE:FREQ=WEEKLY;COUNT=1
CONTACT:George Dudich\, (325) 784-5223\, George.Dudich@tpwd.texas.gov
CREATED;VALUE=DATE-TIME:20240201T172142Z
DESCRIPTION:Join us to see how many birds you can find on our checklist!
LAST-MODIFIED;VALUE=DATE-TIME:20260310T212655Z
URL:https://tpwd.texas.gov/calendar/lake-brownwood/self-guided-birding-hik
 e
END:VEVENT
BEGIN:VTIMEZONE
TZID:US/Central
X-LIC-LOCATION:US/Central
BEGIN:DAYLIGHT
DTSTART;VALUE=DATE-TIME:20260308T030000
TZNAME:CDT
TZOFFSETFROM:-0600
TZOFFSETTO:-0500
END:DAYLIGHT
END:VTIMEZONE
END:VCALENDAR
