BEGIN:VCALENDAR
VERSION:2.0
PRODID:-//Plone.org//NONSGML plone.app.event//EN
X-WR-TIMEZONE:US/Central
BEGIN:VEVENT
SUMMARY:Star Party
DTSTART;TZID=US/Central;VALUE=DATE-TIME:20241221T183000
DTEND;TZID=US/Central;VALUE=DATE-TIME:20241221T203000
DTSTAMP;VALUE=DATE-TIME:20260420T092337Z
UID:2869fa081fdc48fab0ee292be0175216
CONTACT:George Dudich\, (325) 784-5223\, lakebrownwoodsp@tpwd.texas.gov
CREATED;VALUE=DATE-TIME:20241016T190212Z
DESCRIPTION:Join us for a night under the stars to learn what's out there 
 in the night sky!
LAST-MODIFIED;VALUE=DATE-TIME:20241016T190219Z
URL:https://tpwd.texas.gov/calendar/lake-brownwood/star-party-3
END:VEVENT
BEGIN:VTIMEZONE
TZID:US/Central
X-LIC-LOCATION:US/Central
BEGIN:STANDARD
DTSTART;VALUE=DATE-TIME:20241103T010000
TZNAME:CST
TZOFFSETFROM:-0500
TZOFFSETTO:-0600
END:STANDARD
END:VTIMEZONE
END:VCALENDAR
