BEGIN:VCALENDAR
VERSION:2.0
PRODID:-//Plone.org//NONSGML plone.app.event//EN
X-WR-TIMEZONE:US/Central
BEGIN:VEVENT
SUMMARY:Wildflower Walk
DTSTART;TZID=US/Central;VALUE=DATE-TIME:20250411T093000
DTEND;TZID=US/Central;VALUE=DATE-TIME:20250411T101500
DTSTAMP;VALUE=DATE-TIME:20260420T054040Z
UID:b150944e7a544588a696bdc58d459406
RRULE:FREQ=WEEKLY;UNTIL=20250530T000000;BYDAY=FR
EXDATE;TZID=US/Central:20210718T000000,20210719T000000,20210720T000000,202
 10721T000000,20210722T000000,20210723T000000,20210727T000000,20210727T0000
 00,20210727T000000,20250419T000000,20250426T000000,20250517T000000,2025052
 4T000000,20250531T000000,20250607T000000,20250621T000000,20250628T000000,2
 0250712T000000,20250726T000000,20250809T000000,20250816T000000,20250823T00
 0000,20250830T000000,20250906T000000,20250920T000000,20250927T000000
CONTACT:George Dudich\, (325) 784-5223\, George.Dudich@tpwd.texas.gov
CREATED;VALUE=DATE-TIME:20210716T211838Z
DESCRIPTION:Join us to learn about flowers in bloom and other plants in th
 e park!
LAST-MODIFIED;VALUE=DATE-TIME:20260408T152953Z
URL:https://tpwd.texas.gov/calendar/lake-brownwood/wildflower-walk
END:VEVENT
BEGIN:VTIMEZONE
TZID:US/Central
X-LIC-LOCATION:US/Central
BEGIN:DAYLIGHT
DTSTART;VALUE=DATE-TIME:20250309T030000
TZNAME:CDT
TZOFFSETFROM:-0600
TZOFFSETTO:-0500
END:DAYLIGHT
END:VTIMEZONE
END:VCALENDAR
