BEGIN:VCALENDAR
VERSION:2.0
PRODID:-//Plone.org//NONSGML plone.app.event//EN
X-WR-TIMEZONE:US/Central
BEGIN:VEVENT
SUMMARY:Reptile Talk
DTSTART;TZID=US/Central;VALUE=DATE-TIME:20260103T100000
DTEND;TZID=US/Central;VALUE=DATE-TIME:20260103T110000
DTSTAMP;VALUE=DATE-TIME:20260420T100325Z
UID:2d67aededec54e1294a047bd19afc987
CONTACT:Sydney Blackwell\, (956) 308-4903\, sydney.blackwell@tpwd.texas.go
 v
CREATED;VALUE=DATE-TIME:20211101T181144Z
DESCRIPTION:Learn about the different types of reptiles you can find at th
 e park and what makes them so great!
LAST-MODIFIED;VALUE=DATE-TIME:20251229T191524Z
URL:https://tpwd.texas.gov/calendar/lake-casa-blanca/reptile-talk
END:VEVENT
BEGIN:VTIMEZONE
TZID:US/Central
X-LIC-LOCATION:US/Central
BEGIN:STANDARD
DTSTART;VALUE=DATE-TIME:20251102T010000
TZNAME:CST
TZOFFSETFROM:-0500
TZOFFSETTO:-0600
END:STANDARD
END:VTIMEZONE
END:VCALENDAR
