BEGIN:VCALENDAR
VERSION:2.0
PRODID:-//Plone.org//NONSGML plone.app.event//EN
X-WR-TIMEZONE:US/Central
BEGIN:VEVENT
SUMMARY:Open Castle
DTSTART;TZID=US/Central;VALUE=DATE-TIME:20251005T130000
DTEND;TZID=US/Central;VALUE=DATE-TIME:20251005T150000
DTSTAMP;VALUE=DATE-TIME:20260419T204949Z
UID:77d1649efba145ea8b902ce620557cc5
RRULE:FREQ=WEEKLY;UNTIL=20251025T000000;BYDAY=SU
RDATE;TZID=US/Central:20251012T000000,20251017T000000,20251018T000000,2025
 1024T000000,20251025T000000
EXDATE;TZID=US/Central:20250817T000000,20251019T000000
CONTACT:Jamie Langham\, (361) 255-1314\, LakeCorpusChristiSP@tpwd.texas.go
 v
CREATED;VALUE=DATE-TIME:20250427T183635Z
DESCRIPTION:Look inside the historic CCC Refectory and ask the Park Ranger
  any questions you might have.
LAST-MODIFIED;VALUE=DATE-TIME:20251002T155215Z
URL:https://tpwd.texas.gov/calendar/lake-corpus-christi/October%202025/Ope
 n%20Castle
END:VEVENT
BEGIN:VTIMEZONE
TZID:US/Central
X-LIC-LOCATION:US/Central
BEGIN:DAYLIGHT
DTSTART;VALUE=DATE-TIME:20250309T030000
TZNAME:CDT
TZOFFSETFROM:-0600
TZOFFSETTO:-0500
END:DAYLIGHT
END:VTIMEZONE
END:VCALENDAR
