BEGIN:VCALENDAR
VERSION:2.0
PRODID:-//Plone.org//NONSGML plone.app.event//EN
X-WR-TIMEZONE:US/Central
BEGIN:VEVENT
SUMMARY:Pond Exploration
DTSTART;TZID=US/Central;VALUE=DATE-TIME:20250308T130000
DTEND;TZID=US/Central;VALUE=DATE-TIME:20250308T140000
DTSTAMP;VALUE=DATE-TIME:20260419T235158Z
UID:461c924cc1c34cffa125d5a029548786
CONTACT:Eric Rosenthal\, (901) 568-1212\, eric.rosenthal@tpwd.texas.gov
CREATED;VALUE=DATE-TIME:20240205T201133Z
DESCRIPTION:Hike to learn about water wildlife.
LAST-MODIFIED;VALUE=DATE-TIME:20250228T200215Z
URL:https://tpwd.texas.gov/calendar/lake-livingston/pond-exploration
END:VEVENT
BEGIN:VTIMEZONE
TZID:US/Central
X-LIC-LOCATION:US/Central
BEGIN:STANDARD
DTSTART;VALUE=DATE-TIME:20241103T010000
TZNAME:CST
TZOFFSETFROM:-0500
TZOFFSETTO:-0600
END:STANDARD
END:VTIMEZONE
END:VCALENDAR
