BEGIN:VCALENDAR
VERSION:2.0
PRODID:-//Plone.org//NONSGML plone.app.event//EN
X-WR-TIMEZONE:US/Central
BEGIN:VEVENT
SUMMARY:Geocaching 101
DTSTART;TZID=US/Central;VALUE=DATE-TIME:20260516T090000
DTEND;TZID=US/Central;VALUE=DATE-TIME:20260516T130000
DTSTAMP;VALUE=DATE-TIME:20260420T233120Z
UID:e8321c9019ba4845b3627094dab96dfa
CONTACT:Rita Eisenschenk\, (254) 694-3793\, rita.eisenschenk@tpwd.texas.go
 v
CREATED;VALUE=DATE-TIME:20250305T213914Z
DESCRIPTION:What is Geocaching? It is the ultimate treasure hunt! This out
 door adventure has participants use the Geocaching app and/or a GPS device
  to navigate to cleverly hidden containers called geocaches. There are mil
 lions of geocaches in 190 countries waiting to be discovered—there are s
 ome near you right now. Let's start this treasure hunt!
LAST-MODIFIED;VALUE=DATE-TIME:20260310T200347Z
URL:https://tpwd.texas.gov/calendar/lake-whitney/natures-palette-sensory-h
 unt
END:VEVENT
BEGIN:VTIMEZONE
TZID:US/Central
X-LIC-LOCATION:US/Central
BEGIN:DAYLIGHT
DTSTART;VALUE=DATE-TIME:20260308T030000
TZNAME:CDT
TZOFFSETFROM:-0600
TZOFFSETTO:-0500
END:DAYLIGHT
END:VTIMEZONE
END:VCALENDAR
