BEGIN:VCALENDAR
VERSION:2.0
PRODID:-//Plone.org//NONSGML plone.app.event//EN
X-WR-TIMEZONE:US/Central
BEGIN:VEVENT
SUMMARY:Become a Junior Ranger!
DTSTART;TZID=US/Central;VALUE=DATE-TIME:20260313T100000
DTEND;TZID=US/Central;VALUE=DATE-TIME:20260313T110000
DTSTAMP;VALUE=DATE-TIME:20260420T180310Z
UID:abbf38fafca54c05ba31f48a8ad5a643
CONTACT:Lauren Hartwick\, (512) 398-3479\, lauren.hartwick@tpwd.texas.gov
CREATED;VALUE=DATE-TIME:20160826T185443Z
DESCRIPTION:Earn a Junior Ranger badge!
LAST-MODIFIED;VALUE=DATE-TIME:20260217T202935Z
URL:https://tpwd.texas.gov/calendar/lockhart/copy2_of_become-a-junior-rang
 er-1
END:VEVENT
BEGIN:VTIMEZONE
TZID:US/Central
X-LIC-LOCATION:US/Central
BEGIN:DAYLIGHT
DTSTART;VALUE=DATE-TIME:20260308T030000
TZNAME:CDT
TZOFFSETFROM:-0600
TZOFFSETTO:-0500
END:DAYLIGHT
END:VTIMEZONE
END:VCALENDAR
