BEGIN:VCALENDAR
VERSION:2.0
PRODID:-//Plone.org//NONSGML plone.app.event//EN
X-WR-TIMEZONE:US/Central
BEGIN:VEVENT
SUMMARY:Homeschool Class: Stream Study
DTSTART;TZID=US/Central;VALUE=DATE-TIME:20250409T140000
DTEND;TZID=US/Central;VALUE=DATE-TIME:20250409T153000
DTSTAMP;VALUE=DATE-TIME:20260420T100013Z
UID:b43c4ecd55b94ec78b52416a52d75ece
CONTACT:Lauren Hartwick\, (512) 398-3479\, lauren.hartwick@tpwd.texas.gov
CREATED;VALUE=DATE-TIME:20181218T155739Z
DESCRIPTION:Experience Lockhart State Park as an outdoor classroom in this
  program for school-age kids! Registration required.
LAST-MODIFIED;VALUE=DATE-TIME:20241216T185218Z
URL:https://tpwd.texas.gov/calendar/lockhart/expired-homeschool-events/cop
 y_of_homeschool-class-stream-study
END:VEVENT
BEGIN:VTIMEZONE
TZID:US/Central
X-LIC-LOCATION:US/Central
BEGIN:DAYLIGHT
DTSTART;VALUE=DATE-TIME:20250309T030000
TZNAME:CDT
TZOFFSETFROM:-0600
TZOFFSETTO:-0500
END:DAYLIGHT
END:VTIMEZONE
END:VCALENDAR
