BEGIN:VCALENDAR
VERSION:2.0
PRODID:-//Plone.org//NONSGML plone.app.event//EN
X-WR-TIMEZONE:US/Central
BEGIN:VEVENT
SUMMARY:Golf for Beginners 1
DTSTART;TZID=US/Central;VALUE=DATE-TIME:20260131T100000
DTEND;TZID=US/Central;VALUE=DATE-TIME:20260131T113000
DTSTAMP;VALUE=DATE-TIME:20260422T020316Z
UID:7d0e0419a80a4c61bff4e3e73fadb0ab
CONTACT:Steven Markowski\, (512) 398-3479\, Steven.Markowski@tpwd.texas.go
 v
CREATED;VALUE=DATE-TIME:20220216T183335Z
DESCRIPTION:Take a swing at golf!  Learn the basics of the sport in this f
 un class.  Registration required.
LAST-MODIFIED;VALUE=DATE-TIME:20260129T212435Z
URL:https://tpwd.texas.gov/calendar/lockhart/not-my-programs/beginners-gol
 f-class
END:VEVENT
BEGIN:VTIMEZONE
TZID:US/Central
X-LIC-LOCATION:US/Central
BEGIN:STANDARD
DTSTART;VALUE=DATE-TIME:20251102T010000
TZNAME:CST
TZOFFSETFROM:-0500
TZOFFSETTO:-0600
END:STANDARD
END:VTIMEZONE
END:VCALENDAR
