BEGIN:VCALENDAR
VERSION:2.0
PRODID:-//Plone.org//NONSGML plone.app.event//EN
X-WR-TIMEZONE:US/Central
BEGIN:VEVENT
SUMMARY:What's the Buzz?
DTSTART;TZID=US/Central;VALUE=DATE-TIME:20250517T100000
DTEND;TZID=US/Central;VALUE=DATE-TIME:20250517T110000
DTSTAMP;VALUE=DATE-TIME:20260420T092249Z
UID:b7bff54988cc452cbe21bdc0f5fbae6f
CONTACT:Makenzie Harris\, (903) 836-4336\, makenzie.harris@tpwd.texas.gov
CREATED;VALUE=DATE-TIME:20250508T212308Z
DESCRIPTION:Learn about our native (and unlikely!) pollinators on a short 
 Hike.
LAST-MODIFIED;VALUE=DATE-TIME:20250508T212720Z
URL:https://tpwd.texas.gov/calendar/martin-creek-lake/whats-the-buzz
END:VEVENT
BEGIN:VTIMEZONE
TZID:US/Central
X-LIC-LOCATION:US/Central
BEGIN:DAYLIGHT
DTSTART;VALUE=DATE-TIME:20250309T030000
TZNAME:CDT
TZOFFSETFROM:-0600
TZOFFSETTO:-0500
END:DAYLIGHT
END:VTIMEZONE
END:VCALENDAR
