BEGIN:VCALENDAR
VERSION:2.0
PRODID:-//Plone.org//NONSGML plone.app.event//EN
X-WR-TIMEZONE:US/Central
BEGIN:VEVENT
SUMMARY:Explore Archery - Halloween Edition!
DTSTART;TZID=US/Central;VALUE=DATE-TIME:20241026T160000
DTEND;TZID=US/Central;VALUE=DATE-TIME:20241026T180000
DTSTAMP;VALUE=DATE-TIME:20260419T180130Z
UID:03c777944620462ca3db30aa0d432727
CONTACT:Tessa Rangel\, (512) 415-8793\, tessa.rangel@tpwd.texas.gov
CREATED;VALUE=DATE-TIME:20241002T174124Z
DESCRIPTION:Join McKinney Falls and Explore Archery for a Spooktacular Arc
 hery Event!
LAST-MODIFIED;VALUE=DATE-TIME:20241025T224426Z
URL:https://tpwd.texas.gov/calendar/mckinney-falls/explore-archery-hallowe
 en-edition
END:VEVENT
BEGIN:VTIMEZONE
TZID:US/Central
X-LIC-LOCATION:US/Central
BEGIN:DAYLIGHT
DTSTART;VALUE=DATE-TIME:20240310T030000
TZNAME:CDT
TZOFFSETFROM:-0600
TZOFFSETTO:-0500
END:DAYLIGHT
END:VTIMEZONE
END:VCALENDAR
