BEGIN:VCALENDAR
VERSION:2.0
PRODID:-//Plone.org//NONSGML plone.app.event//EN
X-WR-TIMEZONE:US/Central
BEGIN:VEVENT
SUMMARY:Guided Hike with a Ranger
DTSTART;TZID=US/Central;VALUE=DATE-TIME:20250823T090000
DTEND;TZID=US/Central;VALUE=DATE-TIME:20250823T103000
DTSTAMP;VALUE=DATE-TIME:20260420T022540Z
UID:d086f55cbb4e49819262543b5f4c071b
CONTACT:Tessa Rangel\, (512) 415-8793\, tessa.rangel@tpwd.texas.gov
CREATED;VALUE=DATE-TIME:20250729T173640Z
DESCRIPTION:Join us for this guided hike to learn about the history\, plan
 ts\, and animals of McKinney Falls!
LAST-MODIFIED;VALUE=DATE-TIME:20250729T173644Z
URL:https://tpwd.texas.gov/calendar/mckinney-falls/guided-hike-with-a-rang
 er
END:VEVENT
BEGIN:VTIMEZONE
TZID:US/Central
X-LIC-LOCATION:US/Central
BEGIN:DAYLIGHT
DTSTART;VALUE=DATE-TIME:20250309T030000
TZNAME:CDT
TZOFFSETFROM:-0600
TZOFFSETTO:-0500
END:DAYLIGHT
END:VTIMEZONE
END:VCALENDAR
