BEGIN:VCALENDAR
VERSION:2.0
PRODID:-//Plone.org//NONSGML plone.app.event//EN
X-WR-TIMEZONE:US/Central
BEGIN:VEVENT
SUMMARY:Morning Bird Walk
DTSTART;TZID=US/Central;VALUE=DATE-TIME:20240914T083000
DTEND;TZID=US/Central;VALUE=DATE-TIME:20240914T093000
DTSTAMP;VALUE=DATE-TIME:20260420T175804Z
UID:72bdf93ed5d9410fb906293e75ecb1e1
CONTACT:Tessa Rangel\, (512) 415-8793\, tessa.rangel@tpwd.texas.gov
CREATED;VALUE=DATE-TIME:20240823T180812Z
DESCRIPTION:Come see the wonderful variety of resident and migratory birds
  the park has to offer!
LAST-MODIFIED;VALUE=DATE-TIME:20240920T184747Z
URL:https://tpwd.texas.gov/calendar/mckinney-falls/morning-bird-walk-1
END:VEVENT
BEGIN:VTIMEZONE
TZID:US/Central
X-LIC-LOCATION:US/Central
BEGIN:DAYLIGHT
DTSTART;VALUE=DATE-TIME:20240310T030000
TZNAME:CDT
TZOFFSETFROM:-0600
TZOFFSETTO:-0500
END:DAYLIGHT
END:VTIMEZONE
END:VCALENDAR
