BEGIN:VCALENDAR
VERSION:2.0
PRODID:-//Plone.org//NONSGML plone.app.event//EN
X-WR-TIMEZONE:US/Central
BEGIN:VEVENT
SUMMARY:Skins and Skulls
DTSTART;TZID=US/Central;VALUE=DATE-TIME:20250823T140000
DTEND;TZID=US/Central;VALUE=DATE-TIME:20250823T150000
DTSTAMP;VALUE=DATE-TIME:20260419T220653Z
UID:a905c6b4ea404b8eb28e34b767620a19
CONTACT:Tessa Rangel\, (512) 415-8793\, tessa.rangel@tpwd.texas.gov
CREATED;VALUE=DATE-TIME:20250729T174227Z
DESCRIPTION:Learn how an animal's unique fur pattern or skull anatomy help
 s it survive and touch real specimens!
LAST-MODIFIED;VALUE=DATE-TIME:20250729T174231Z
URL:https://tpwd.texas.gov/calendar/mckinney-falls/skins-and-skulls-21
END:VEVENT
BEGIN:VTIMEZONE
TZID:US/Central
X-LIC-LOCATION:US/Central
BEGIN:DAYLIGHT
DTSTART;VALUE=DATE-TIME:20250309T030000
TZNAME:CDT
TZOFFSETFROM:-0600
TZOFFSETTO:-0500
END:DAYLIGHT
END:VTIMEZONE
END:VCALENDAR
