BEGIN:VCALENDAR
VERSION:2.0
PRODID:-//Plone.org//NONSGML plone.app.event//EN
X-WR-TIMEZONE:US/Central
BEGIN:VEVENT
SUMMARY:Skins and Skulls
DTSTART;TZID=US/Central;VALUE=DATE-TIME:20240907T140000
DTEND;TZID=US/Central;VALUE=DATE-TIME:20240907T150000
DTSTAMP;VALUE=DATE-TIME:20260420T062123Z
UID:fe1b327306824037a51a50edb38a13f6
CONTACT:Tessa Rangel\, (512) 415-8793\, tessa.rangel@tpwd.texas.gov
CREATED;VALUE=DATE-TIME:20240901T143545Z
DESCRIPTION:Learn how an animal's unique fur pattern or skull anatomy help
 s it survive. You'll get to touch real specimens!
LAST-MODIFIED;VALUE=DATE-TIME:20240904T164051Z
URL:https://tpwd.texas.gov/calendar/mckinney-falls/skins-and-skulls-3
END:VEVENT
BEGIN:VTIMEZONE
TZID:US/Central
X-LIC-LOCATION:US/Central
BEGIN:DAYLIGHT
DTSTART;VALUE=DATE-TIME:20240310T030000
TZNAME:CDT
TZOFFSETFROM:-0600
TZOFFSETTO:-0500
END:DAYLIGHT
END:VTIMEZONE
END:VCALENDAR
