BEGIN:VCALENDAR
VERSION:2.0
PRODID:-//Plone.org//NONSGML plone.app.event//EN
X-WR-TIMEZONE:US/Central
BEGIN:VEVENT
SUMMARY:Tent Building Timed Competition!
DTSTART;TZID=US/Central;VALUE=DATE-TIME:20250531T090000
DTEND;TZID=US/Central;VALUE=DATE-TIME:20250531T140000
DTSTAMP;VALUE=DATE-TIME:20260419T223323Z
UID:dd0a0dc06ee549d2b6713a84148aa0fa
CONTACT:Tessa Rangel\, (512) 415-8793\, tessa.rangel@tpwd.texas.gov
CREATED;VALUE=DATE-TIME:20250529T133326Z
DESCRIPTION:Join Texas Outdoor Family in testing your tent building skills
 !
LAST-MODIFIED;VALUE=DATE-TIME:20250529T133332Z
URL:https://tpwd.texas.gov/calendar/mckinney-falls/tent-building-timed-com
 petition
END:VEVENT
BEGIN:VTIMEZONE
TZID:US/Central
X-LIC-LOCATION:US/Central
BEGIN:DAYLIGHT
DTSTART;VALUE=DATE-TIME:20250309T030000
TZNAME:CDT
TZOFFSETFROM:-0600
TZOFFSETTO:-0500
END:DAYLIGHT
END:VTIMEZONE
END:VCALENDAR
