BEGIN:VCALENDAR
VERSION:2.0
PRODID:-//Plone.org//NONSGML plone.app.event//EN
X-WR-TIMEZONE:US/Central
BEGIN:VEVENT
SUMMARY:Trout Fishing
DTSTART;TZID=US/Central;VALUE=DATE-TIME:20250125T100000
DTEND;TZID=US/Central;VALUE=DATE-TIME:20250125T113000
DTSTAMP;VALUE=DATE-TIME:20260420T172505Z
UID:d0911643a493427593be1304d0b645f3
CONTACT:Tessa Rangel\, (512) 415-8793\, tessa.rangel@tpwd.texas.gov
CREATED;VALUE=DATE-TIME:20241227T171456Z
DESCRIPTION:Join us for this trout fishing event!
LAST-MODIFIED;VALUE=DATE-TIME:20241227T171506Z
URL:https://tpwd.texas.gov/calendar/mckinney-falls/trout-fishing-1
END:VEVENT
BEGIN:VTIMEZONE
TZID:US/Central
X-LIC-LOCATION:US/Central
BEGIN:STANDARD
DTSTART;VALUE=DATE-TIME:20241103T010000
TZNAME:CST
TZOFFSETFROM:-0500
TZOFFSETTO:-0600
END:STANDARD
END:VTIMEZONE
END:VCALENDAR
