BEGIN:VCALENDAR
VERSION:2.0
PRODID:-//Plone.org//NONSGML plone.app.event//EN
X-WR-TIMEZONE:US/Central
BEGIN:VEVENT
SUMMARY:Father's Day Hangout!
DTSTART;TZID=US/Central;VALUE=DATE-TIME:20250614T130000
DTEND;TZID=US/Central;VALUE=DATE-TIME:20250614T143000
DTSTAMP;VALUE=DATE-TIME:20260420T064602Z
UID:7c037c1e0fe548ee859e6082cb6d449f
CONTACT:Noah Duke\, (936) 687-2394\, noah.duke@tpwd.texas.gov
CREATED;VALUE=DATE-TIME:20250607T185056Z
DESCRIPTION:Swing by Mission Tejas State Park and have an early Father's D
 ay with games and popsicles!
LAST-MODIFIED;VALUE=DATE-TIME:20250607T185109Z
URL:https://tpwd.texas.gov/calendar/mission-tejas/fathers-day-hangout
END:VEVENT
BEGIN:VTIMEZONE
TZID:US/Central
X-LIC-LOCATION:US/Central
BEGIN:DAYLIGHT
DTSTART;VALUE=DATE-TIME:20250309T030000
TZNAME:CDT
TZOFFSETFROM:-0600
TZOFFSETTO:-0500
END:DAYLIGHT
END:VTIMEZONE
END:VCALENDAR
