BEGIN:VCALENDAR
VERSION:2.0
PRODID:-//Plone.org//NONSGML plone.app.event//EN
X-WR-TIMEZONE:US/Central
BEGIN:VEVENT
SUMMARY:Mission Tejas Folk Festival
DTSTART;TZID=US/Central;VALUE=DATE-TIME:20260424T090000
DTEND;TZID=US/Central;VALUE=DATE-TIME:20260426T120000
DTSTAMP;VALUE=DATE-TIME:20260420T095757Z
UID:7b622b0141d041df880f12ef3f565ea5
CONTACT:Noah Duke\, (936) 687-2394\, noah.duke@tpwd.texas.gov
CREATED;VALUE=DATE-TIME:20240322T193204Z
DESCRIPTION:Come to Mission Tejas for our annual folk festival! Come see p
 resentations of pioneer life in Texas around the early to mid-1800's with 
 activities such as butter churning\, kids' games\, and other aspects of pi
 oneer life!
LAST-MODIFIED;VALUE=DATE-TIME:20260408T200721Z
URL:https://tpwd.texas.gov/calendar/mission-tejas/folk-festival
END:VEVENT
BEGIN:VTIMEZONE
TZID:US/Central
X-LIC-LOCATION:US/Central
BEGIN:DAYLIGHT
DTSTART;VALUE=DATE-TIME:20260308T030000
TZNAME:CDT
TZOFFSETFROM:-0600
TZOFFSETTO:-0500
END:DAYLIGHT
END:VTIMEZONE
END:VCALENDAR
