BEGIN:VCALENDAR
VERSION:2.0
PRODID:-//Plone.org//NONSGML plone.app.event//EN
X-WR-TIMEZONE:US/Central
BEGIN:VEVENT
SUMMARY:Full Moon Shoreline Walk
DTSTART;TZID=US/Central;VALUE=DATE-TIME:20250808T190000
DTEND;TZID=US/Central;VALUE=DATE-TIME:20250808T203000
DTSTAMP;VALUE=DATE-TIME:20260420T162259Z
UID:31ecaf7588824691832bd7bfc3696282
RRULE:FREQ=MONTHLY;UNTIL=20260222T000000;BYMONTHDAY=8
RDATE;TZID=US/Central:20250906T000000,20251004T000000,20251106T000000,2025
 1205T000000,20260103T000000,20260201T000000
EXDATE;TZID=US/Central:20250912T000000,20251010T000000,20251101T000000,202
 60108T000000,20260208T000000
CONTACT:Benjamin Taylor\, (361) 749-5246\, x2077\, benjamin.taylor@tpwd.te
 xas.gov
CREATED;VALUE=DATE-TIME:20250724T211538Z
DESCRIPTION:Join a ranger and park volunteers for the unique experience of
  walking along the water's edge with only the light of the full moon as a 
 guide.
LAST-MODIFIED;VALUE=DATE-TIME:20260108T171841Z
URL:https://tpwd.texas.gov/calendar/mustang-island/full-moon-shoreline-wal
 k
END:VEVENT
BEGIN:VTIMEZONE
TZID:US/Central
X-LIC-LOCATION:US/Central
BEGIN:DAYLIGHT
DTSTART;VALUE=DATE-TIME:20250309T030000
TZNAME:CDT
TZOFFSETFROM:-0600
TZOFFSETTO:-0500
END:DAYLIGHT
END:VTIMEZONE
END:VCALENDAR
