BEGIN:VCALENDAR
VERSION:2.0
PRODID:-//Plone.org//NONSGML plone.app.event//EN
X-WR-TIMEZONE:US/Central
BEGIN:VEVENT
SUMMARY:Native American Heritage Day
DTSTART;TZID=US/Central;VALUE=DATE-TIME:20241102T110000
DTEND;TZID=US/Central;VALUE=DATE-TIME:20241102T140000
DTSTAMP;VALUE=DATE-TIME:20260420T162933Z
UID:593c5ce4b170434a94ccc00b5074c3f0
CONTACT:Clarissa Kruse\, (361) 749-5246\, clarissa.kruse@tpwd.texas.gov
CREATED;VALUE=DATE-TIME:20241015T151550Z
DESCRIPTION:Join us in celebrating Native American Heritage Month and lear
 n about the tools used by the Karankawas and other Native Americans on the
  coast.  Participate in atlatl throwing\, net making and see genuine artif
 acts from the South Texas area.\n\nMeet at the Day Use Parking lot area of
  Mustang Island State Park.
LAST-MODIFIED;VALUE=DATE-TIME:20241016T154504Z
URL:https://tpwd.texas.gov/calendar/mustang-island/native-american-heritag
 e-day
END:VEVENT
BEGIN:VTIMEZONE
TZID:US/Central
X-LIC-LOCATION:US/Central
BEGIN:DAYLIGHT
DTSTART;VALUE=DATE-TIME:20240310T030000
TZNAME:CDT
TZOFFSETFROM:-0600
TZOFFSETTO:-0500
END:DAYLIGHT
END:VTIMEZONE
END:VCALENDAR
