BEGIN:VCALENDAR
VERSION:2.0
PRODID:-//Plone.org//NONSGML plone.app.event//EN
X-WR-TIMEZONE:US/Central
BEGIN:VEVENT
SUMMARY:Shell and Tell
DTSTART;TZID=US/Central;VALUE=DATE-TIME:20251221T150000
DTEND;TZID=US/Central;VALUE=DATE-TIME:20251221T160000
DTSTAMP;VALUE=DATE-TIME:20260420T131858Z
UID:9e8e93a1bc5e42719e380306f6624336
CONTACT:Benjamin Taylor\, (361) 749-5246\, x2077\, benjamin.taylor@tpwd.te
 xas.gov
CREATED;VALUE=DATE-TIME:20250403T185544Z
DESCRIPTION:Get hands on with coastal curiosities and the shells of creatu
 res that help shape our shores and society!
LAST-MODIFIED;VALUE=DATE-TIME:20260219T172934Z
URL:https://tpwd.texas.gov/calendar/mustang-island/shell-and-tell/2025-12-
 21
END:VEVENT
BEGIN:VTIMEZONE
TZID:US/Central
X-LIC-LOCATION:US/Central
BEGIN:STANDARD
DTSTART;VALUE=DATE-TIME:20251102T010000
TZNAME:CST
TZOFFSETFROM:-0500
TZOFFSETTO:-0600
END:STANDARD
END:VTIMEZONE
END:VCALENDAR
