BEGIN:VCALENDAR
VERSION:2.0
PRODID:-//Plone.org//NONSGML plone.app.event//EN
X-WR-TIMEZONE:US/Central
BEGIN:VEVENT
SUMMARY:CANCELED: The Stars at Night
DTSTART;TZID=US/Central;VALUE=DATE-TIME:20260110T183000
DTEND;TZID=US/Central;VALUE=DATE-TIME:20260110T193000
DTSTAMP;VALUE=DATE-TIME:20260420T100011Z
UID:bd0878e04e954987b81b87ac026e3ae3
CONTACT:Elizabeth Mabry\, (830) 765-8101\, elizabeth.mabry@tpwd.texas.gov
CREATED;VALUE=DATE-TIME:20251110T172920Z
DESCRIPTION:Look through telescopes to explore the night sky.
LAST-MODIFIED;VALUE=DATE-TIME:20251219T175248Z
URL:https://tpwd.texas.gov/calendar/old-tunnel/the-stars-at-night
END:VEVENT
BEGIN:VTIMEZONE
TZID:US/Central
X-LIC-LOCATION:US/Central
BEGIN:STANDARD
DTSTART;VALUE=DATE-TIME:20251102T010000
TZNAME:CST
TZOFFSETFROM:-0500
TZOFFSETTO:-0600
END:STANDARD
END:VTIMEZONE
END:VCALENDAR
