BEGIN:VCALENDAR
VERSION:2.0
PRODID:-//Plone.org//NONSGML plone.app.event//EN
X-WR-TIMEZONE:US/Central
BEGIN:VEVENT
SUMMARY:Howl at the Moon
DTSTART;TZID=US/Central;VALUE=DATE-TIME:20260104T180000
DTEND;TZID=US/Central;VALUE=DATE-TIME:20260104T200000
DTSTAMP;VALUE=DATE-TIME:20260420T023532Z
UID:3af94724f9d241239b0818b28e6ebbc0
CONTACT:Sky McWhorter\, (830) 263-2060\, skylit.mcwhorter@tpwd.texas.gov
CREATED;VALUE=DATE-TIME:20251210T205936Z
DESCRIPTION:Join us to view the wolf moon\, the first super moon in 2026!
LAST-MODIFIED;VALUE=DATE-TIME:20251210T214135Z
URL:https://tpwd.texas.gov/calendar/palmetto/howl-at-the-moon
END:VEVENT
BEGIN:VTIMEZONE
TZID:US/Central
X-LIC-LOCATION:US/Central
BEGIN:STANDARD
DTSTART;VALUE=DATE-TIME:20251102T010000
TZNAME:CST
TZOFFSETFROM:-0500
TZOFFSETTO:-0600
END:STANDARD
END:VTIMEZONE
END:VCALENDAR
