BEGIN:VCALENDAR
VERSION:2.0
PRODID:-//Plone.org//NONSGML plone.app.event//EN
X-WR-TIMEZONE:US/Central
BEGIN:VEVENT
SUMMARY:Birding Hike
DTSTART;TZID=US/Central;VALUE=DATE-TIME:20260314T080000
DTEND;TZID=US/Central;VALUE=DATE-TIME:20260314T100000
DTSTAMP;VALUE=DATE-TIME:20260420T164956Z
UID:222c75dd20174a099f6307e22f6c578f
CONTACT:Mysti Garvin\, mysti.garvin@tpwd.texas.gov
CREATED;VALUE=DATE-TIME:20250605T211139Z
DESCRIPTION:Join us for a morning of birdwatching along the scenic Paseo T
 rail!
LAST-MODIFIED;VALUE=DATE-TIME:20260212T165809Z
URL:https://tpwd.texas.gov/calendar/palo-duro-canyon/copy12_of_birding-hik
 e
END:VEVENT
BEGIN:VTIMEZONE
TZID:US/Central
X-LIC-LOCATION:US/Central
BEGIN:DAYLIGHT
DTSTART;VALUE=DATE-TIME:20260308T030000
TZNAME:CDT
TZOFFSETFROM:-0600
TZOFFSETTO:-0500
END:DAYLIGHT
END:VTIMEZONE
END:VCALENDAR
