BEGIN:VCALENDAR
VERSION:2.0
PRODID:-//Plone.org//NONSGML plone.app.event//EN
X-WR-TIMEZONE:US/Central
BEGIN:VEVENT
SUMMARY:Bison and The Comanche
DTSTART;TZID=US/Central;VALUE=DATE-TIME:20251101T140000
DTEND;TZID=US/Central;VALUE=DATE-TIME:20251101T150000
DTSTAMP;VALUE=DATE-TIME:20260420T084846Z
UID:f2277482013647d4b88e182a0bae6e03
CONTACT:Mysti Pace\, mysti.pace@tpwd.texas.gov
CREATED;VALUE=DATE-TIME:20250918T175647Z
DESCRIPTION:Step inside the story of the plains and explore the vital rela
 tionship between the Comanche and the mighty bison!
LAST-MODIFIED;VALUE=DATE-TIME:20251023T122334Z
URL:https://tpwd.texas.gov/calendar/palo-duro-canyon/copy2_of_bison-and-th
 e-comanche
END:VEVENT
BEGIN:VTIMEZONE
TZID:US/Central
X-LIC-LOCATION:US/Central
BEGIN:DAYLIGHT
DTSTART;VALUE=DATE-TIME:20250309T030000
TZNAME:CDT
TZOFFSETFROM:-0600
TZOFFSETTO:-0500
END:DAYLIGHT
END:VTIMEZONE
END:VCALENDAR
