BEGIN:VCALENDAR
VERSION:2.0
PRODID:-//Plone.org//NONSGML plone.app.event//EN
X-WR-TIMEZONE:US/Central
BEGIN:VEVENT
SUMMARY:Women's Hike
DTSTART;TZID=US/Central;VALUE=DATE-TIME:20250411T100000
DTEND;TZID=US/Central;VALUE=DATE-TIME:20250411T113000
DTSTAMP;VALUE=DATE-TIME:20260420T175111Z
UID:0d56cfbc77934586a4acf35547af3a23
CONTACT:Mysti Pace\, mysti.pace@tpwd.texas.gov
CREATED;VALUE=DATE-TIME:20250324T215701Z
DESCRIPTION:Join us for a 3 mile hike.
LAST-MODIFIED;VALUE=DATE-TIME:20250407T123518Z
URL:https://tpwd.texas.gov/calendar/palo-duro-canyon/ladies-hike
END:VEVENT
BEGIN:VTIMEZONE
TZID:US/Central
X-LIC-LOCATION:US/Central
BEGIN:DAYLIGHT
DTSTART;VALUE=DATE-TIME:20250309T030000
TZNAME:CDT
TZOFFSETFROM:-0600
TZOFFSETTO:-0500
END:DAYLIGHT
END:VTIMEZONE
END:VCALENDAR
