BEGIN:VCALENDAR
VERSION:2.0
PRODID:-//Plone.org//NONSGML plone.app.event//EN
X-WR-TIMEZONE:US/Central
BEGIN:VEVENT
SUMMARY:Scavenger Hunt
DTSTART;TZID=US/Central;VALUE=DATE-TIME:20250318T140000
DTEND;TZID=US/Central;VALUE=DATE-TIME:20250318T150000
DTSTAMP;VALUE=DATE-TIME:20260420T175805Z
UID:cc7fe241a8b440e1a9768ce0bc4814df
CONTACT:Mysti Pace\, mysti.pace@tpwd.texas.gov
CREATED;VALUE=DATE-TIME:20250226T151916Z
DESCRIPTION:Come and find cool things in the canyon\, keep track on your o
 wn score sheet. All ages are welcome!
LAST-MODIFIED;VALUE=DATE-TIME:20250228T005344Z
URL:https://tpwd.texas.gov/calendar/palo-duro-canyon/scavenger-hunt-1
END:VEVENT
BEGIN:VTIMEZONE
TZID:US/Central
X-LIC-LOCATION:US/Central
BEGIN:DAYLIGHT
DTSTART;VALUE=DATE-TIME:20250309T030000
TZNAME:CDT
TZOFFSETFROM:-0600
TZOFFSETTO:-0500
END:DAYLIGHT
END:VTIMEZONE
END:VCALENDAR
