BEGIN:VCALENDAR
VERSION:2.0
PRODID:-//Plone.org//NONSGML plone.app.event//EN
X-WR-TIMEZONE:US/Central
BEGIN:VEVENT
SUMMARY:Fossil Table
DTSTART;TZID=US/Central;VALUE=DATE-TIME:20260530T143000
DTEND;TZID=US/Central;VALUE=DATE-TIME:20260530T153000
DTSTAMP;VALUE=DATE-TIME:20260420T162825Z
UID:347d2d999e30441b8ac5f159205ce62e
CONTACT:Stephen Garmon\, (830) 868-7304\, stephen.garmon@tpwd.texas.gov
CREATED;VALUE=DATE-TIME:20220201T155458Z
DESCRIPTION:The geology of the falls gives us some great views! Come see t
 he small details that make the view even more special!
LAST-MODIFIED;VALUE=DATE-TIME:20260406T190921Z
URL:https://tpwd.texas.gov/calendar/pedernales-falls/flint-floods-and-foss
 ils2
END:VEVENT
BEGIN:VTIMEZONE
TZID:US/Central
X-LIC-LOCATION:US/Central
BEGIN:DAYLIGHT
DTSTART;VALUE=DATE-TIME:20260308T030000
TZNAME:CDT
TZOFFSETFROM:-0600
TZOFFSETTO:-0500
END:DAYLIGHT
END:VTIMEZONE
END:VCALENDAR
