BEGIN:VCALENDAR
VERSION:2.0
PRODID:-//Plone.org//NONSGML plone.app.event//EN
X-WR-TIMEZONE:US/Central
BEGIN:VEVENT
SUMMARY:Hiking Through History
DTSTART;TZID=US/Central;VALUE=DATE-TIME:20260530T090000
DTEND;TZID=US/Central;VALUE=DATE-TIME:20260530T100000
DTSTAMP;VALUE=DATE-TIME:20260420T054323Z
UID:acaa6ea8c06d41ec98f42b3ccd535d14
CONTACT:Stephen Garmon\, (830) 330-1819\, stephen.garmon@tpwd.texas.gov
CREATED;VALUE=DATE-TIME:20180827T183718Z
DESCRIPTION:Join us on a hike through time\, starting in modern history an
 d hiking down to 300-million-year old fossils!
LAST-MODIFIED;VALUE=DATE-TIME:20260406T190835Z
URL:https://tpwd.texas.gov/calendar/pedernales-falls/hiking-through-histor
 y17
END:VEVENT
BEGIN:VTIMEZONE
TZID:US/Central
X-LIC-LOCATION:US/Central
BEGIN:DAYLIGHT
DTSTART;VALUE=DATE-TIME:20260308T030000
TZNAME:CDT
TZOFFSETFROM:-0600
TZOFFSETTO:-0500
END:DAYLIGHT
END:VTIMEZONE
END:VCALENDAR
