BEGIN:VCALENDAR
VERSION:2.0
PRODID:-//Plone.org//NONSGML plone.app.event//EN
X-WR-TIMEZONE:US/Central
BEGIN:VEVENT
SUMMARY:*Event Cancelled - Hiking Through History
DTSTART;TZID=US/Central;VALUE=DATE-TIME:20240927T100000
DTEND;TZID=US/Central;VALUE=DATE-TIME:20240927T110000
DTSTAMP;VALUE=DATE-TIME:20260420T062221Z
UID:33bca31c4e414a6ea8061f27de513631
CONTACT:Stephen Garmon\, (830) 330-1819\, stephen.garmon@tpwd.texas.gov
CREATED;VALUE=DATE-TIME:20180827T183718Z
DESCRIPTION:Event Cancelled
LAST-MODIFIED;VALUE=DATE-TIME:20240927T142911Z
URL:https://tpwd.texas.gov/calendar/pedernales-falls/hiking-through-histor
 y_1
END:VEVENT
BEGIN:VTIMEZONE
TZID:US/Central
X-LIC-LOCATION:US/Central
BEGIN:DAYLIGHT
DTSTART;VALUE=DATE-TIME:20240310T030000
TZNAME:CDT
TZOFFSETFROM:-0600
TZOFFSETTO:-0500
END:DAYLIGHT
END:VTIMEZONE
END:VCALENDAR
