BEGIN:VCALENDAR
VERSION:2.0
PRODID:-//Plone.org//NONSGML plone.app.event//EN
X-WR-TIMEZONE:US/Central
BEGIN:VEVENT
SUMMARY:Junior Ranger Academy
DTSTART;TZID=US/Central;VALUE=DATE-TIME:20250222T130000
DTEND;TZID=US/Central;VALUE=DATE-TIME:20250222T140000
DTSTAMP;VALUE=DATE-TIME:20260419T190053Z
UID:5d39929f025a403ea5dbe10905678ce4
CONTACT:Stephen Garmon\, (830) 868-7304\, stephen.garmon@tpwd.texas.gov
CREATED;VALUE=DATE-TIME:20220623T214058Z
DESCRIPTION:Earn your Junior Ranger badge!
LAST-MODIFIED;VALUE=DATE-TIME:20250108T194722Z
URL:https://tpwd.texas.gov/calendar/pedernales-falls/junior-ranger-academy
END:VEVENT
BEGIN:VTIMEZONE
TZID:US/Central
X-LIC-LOCATION:US/Central
BEGIN:STANDARD
DTSTART;VALUE=DATE-TIME:20241103T010000
TZNAME:CST
TZOFFSETFROM:-0500
TZOFFSETTO:-0600
END:STANDARD
END:VTIMEZONE
END:VCALENDAR
