BEGIN:VCALENDAR
VERSION:2.0
PRODID:-//Plone.org//NONSGML plone.app.event//EN
X-WR-TIMEZONE:US/Central
BEGIN:VEVENT
SUMMARY:Stargazing with a Ranger
DTSTART;TZID=US/Central;VALUE=DATE-TIME:20260306T190000
DTEND;TZID=US/Central;VALUE=DATE-TIME:20260306T200000
DTSTAMP;VALUE=DATE-TIME:20260420T023557Z
UID:8584fab03dd94b8a8388a192059b1f0b
CONTACT:Stephen Garmon\, (830) 330-1819\, stephen.garmon@tpwd.texas.gov
CREATED;VALUE=DATE-TIME:20230127T224403Z
DESCRIPTION:Join us for an evening under the stars!
LAST-MODIFIED;VALUE=DATE-TIME:20260212T194917Z
URL:https://tpwd.texas.gov/calendar/pedernales-falls/stargazing-with-a-ran
 ger2
END:VEVENT
BEGIN:VTIMEZONE
TZID:US/Central
X-LIC-LOCATION:US/Central
BEGIN:STANDARD
DTSTART;VALUE=DATE-TIME:20251102T010000
TZNAME:CST
TZOFFSETFROM:-0500
TZOFFSETTO:-0600
END:STANDARD
END:VTIMEZONE
END:VCALENDAR
