BEGIN:VCALENDAR
VERSION:2.0
PRODID:-//Plone.org//NONSGML plone.app.event//EN
X-WR-TIMEZONE:US/Central
BEGIN:VEVENT
SUMMARY:B.A.R.K. Ranger Academy
DTSTART;TZID=US/Central;VALUE=DATE-TIME:20260321T090000
DTEND;TZID=US/Central;VALUE=DATE-TIME:20260321T101500
DTSTAMP;VALUE=DATE-TIME:20260420T175040Z
UID:f88f5803758d4d1d90e886ff90d8901f
CONTACT:Jenna Lombard\, (903) 425-2332\, Jenna.Lombard@tpwd.texas.gov
CREATED;VALUE=DATE-TIME:20251001T155458Z
DESCRIPTION:Bring the pups and learn what it takes to become a certified B
 .A.R.K. Ranger!
LAST-MODIFIED;VALUE=DATE-TIME:20260220T202424Z
URL:https://tpwd.texas.gov/calendar/purtis-creek/2026-programs/march/berry
 -special-edible-plants
END:VEVENT
BEGIN:VTIMEZONE
TZID:US/Central
X-LIC-LOCATION:US/Central
BEGIN:DAYLIGHT
DTSTART;VALUE=DATE-TIME:20260308T030000
TZNAME:CDT
TZOFFSETFROM:-0600
TZOFFSETTO:-0500
END:DAYLIGHT
END:VTIMEZONE
END:VCALENDAR
