BEGIN:VCALENDAR
VERSION:2.0
PRODID:-//Plone.org//NONSGML plone.app.event//EN
X-WR-TIMEZONE:US/Central
BEGIN:VEVENT
SUMMARY:Eclipse Watch Party
DTSTART;TZID=US/Central;VALUE=DATE-TIME:20240408T120000
DTEND;TZID=US/Central;VALUE=DATE-TIME:20240408T143000
DTSTAMP;VALUE=DATE-TIME:20260420T114937Z
UID:dc10d0bbaa4a4e87a540f7db975ddb66
CONTACT:Katie Buccambuso\, Katie.Buccambuso@tpwd.texas.gov
CREATED;VALUE=DATE-TIME:20240209T175459Z
DESCRIPTION:Join Rangers for our Eclipse watch party and celebrate this sp
 ectacular event!
LAST-MODIFIED;VALUE=DATE-TIME:20240209T175517Z
URL:https://tpwd.texas.gov/calendar/ray-roberts-lake-isle-du-bois-unit/ecl
 ipse-watch-party
END:VEVENT
BEGIN:VTIMEZONE
TZID:US/Central
X-LIC-LOCATION:US/Central
BEGIN:DAYLIGHT
DTSTART;VALUE=DATE-TIME:20240310T030000
TZNAME:CDT
TZOFFSETFROM:-0600
TZOFFSETTO:-0500
END:DAYLIGHT
END:VTIMEZONE
END:VCALENDAR
