BEGIN:VCALENDAR
VERSION:2.0
PRODID:-//Plone.org//NONSGML plone.app.event//EN
X-WR-TIMEZONE:US/Central
BEGIN:VEVENT
SUMMARY:Dutch Oven Cooking
DTSTART;TZID=US/Central;VALUE=DATE-TIME:20251115T110000
DTEND;TZID=US/Central;VALUE=DATE-TIME:20251115T120000
DTSTAMP;VALUE=DATE-TIME:20260420T070222Z
UID:299f616ba6644457b3ebce71240eaacf
CONTACT:Celia Flores\, (940) 637-2294\, celia.flores@tpwd.texas.gov
CREATED;VALUE=DATE-TIME:20251019T212209Z
DESCRIPTION:THIS EVENT HAS BEEN CANCELLED
LAST-MODIFIED;VALUE=DATE-TIME:20251106T150203Z
URL:https://tpwd.texas.gov/calendar/ray-roberts-lake-johnson-branch-unit/d
 utch-oven-cooking
END:VEVENT
BEGIN:VTIMEZONE
TZID:US/Central
X-LIC-LOCATION:US/Central
BEGIN:STANDARD
DTSTART;VALUE=DATE-TIME:20251102T010000
TZNAME:CST
TZOFFSETFROM:-0500
TZOFFSETTO:-0600
END:STANDARD
END:VTIMEZONE
END:VCALENDAR
