BEGIN:VCALENDAR
VERSION:2.0
PRODID:-//Plone.org//NONSGML plone.app.event//EN
X-WR-TIMEZONE:US/Central
BEGIN:VEVENT
SUMMARY:Mayfest
DTSTART;TZID=US/Central;VALUE=DATE-TIME:20260502T100000
DTEND;TZID=US/Central;VALUE=DATE-TIME:20260503T170000
DTSTAMP;VALUE=DATE-TIME:20260422T080643Z
UID:d78d025a79534606bc015a78ce56b23c
CONTACT:TPWD Recruitment\, (512) 389-4402\, recruitment@tpwd.texas.gov\, h
 ttps://mayfest.org/
CREATED;VALUE=DATE-TIME:20260416T203642Z
DESCRIPTION:Hosted in Ft. Worth. TPWD Recruitment representatives will be 
 attending to discuss career\, internship\, and volunteer opportunities wit
 h attendees.
LAST-MODIFIED;VALUE=DATE-TIME:20260416T203645Z
URL:https://tpwd.texas.gov/calendar/recruiting/mayfest-1
END:VEVENT
BEGIN:VTIMEZONE
TZID:US/Central
X-LIC-LOCATION:US/Central
BEGIN:DAYLIGHT
DTSTART;VALUE=DATE-TIME:20260308T030000
TZNAME:CDT
TZOFFSETFROM:-0600
TZOFFSETTO:-0500
END:DAYLIGHT
END:VTIMEZONE
END:VCALENDAR
