BEGIN:VCALENDAR
VERSION:2.0
PRODID:-//Plone.org//NONSGML plone.app.event//EN
X-WR-TIMEZONE:US/Central
BEGIN:VEVENT
SUMMARY:Texas State University Internship Fair
DTSTART;TZID=US/Central;VALUE=DATE-TIME:20260203T120000
DTEND;TZID=US/Central;VALUE=DATE-TIME:20260203T150000
DTSTAMP;VALUE=DATE-TIME:20260419T222659Z
UID:851131b7143a424d8d375b1aa8235989
CONTACT:TPWD Recruitment\, (512) 389-4402\, recruitment@tpwd.texas.gov\, h
 ttps://www.careerservices.txst.edu/events-fairs.html
CREATED;VALUE=DATE-TIME:20260108T235147Z
DESCRIPTION:Hosted by Texas State University. TPWD Recruitment representat
 ives will be attending to discuss career\, internship\, and volunteer oppo
 rtunities with Texas State University students.
LAST-MODIFIED;VALUE=DATE-TIME:20260108T235153Z
URL:https://tpwd.texas.gov/calendar/recruiting/texas-state-university-inte
 rnship-fair-1
END:VEVENT
BEGIN:VTIMEZONE
TZID:US/Central
X-LIC-LOCATION:US/Central
BEGIN:STANDARD
DTSTART;VALUE=DATE-TIME:20251102T010000
TZNAME:CST
TZOFFSETFROM:-0500
TZOFFSETTO:-0600
END:STANDARD
END:VTIMEZONE
END:VCALENDAR
