BEGIN:VCALENDAR
VERSION:2.0
PRODID:-//Plone.org//NONSGML plone.app.event//EN
X-WR-TIMEZONE:US/Central
BEGIN:VEVENT
SUMMARY:Adaptation Investigations
DTSTART;TZID=US/Central;VALUE=DATE-TIME:20250803T110000
DTEND;TZID=US/Central;VALUE=DATE-TIME:20250803T120000
DTSTAMP;VALUE=DATE-TIME:20260420T070644Z
UID:4e2c6894ce114558ba45ffaf64625581
RRULE:FREQ=DAILY;COUNT=2
RDATE;TZID=US/Central:20250809T000000
EXDATE;TZID=US/Central:20250804T000000
CONTACT:Amanda De Leon\, (956) 536-3931\, amanda.deleon@tpwd.texas.gov\, h
 ttps://www.facebook.com/resacadelapalma
CREATED;VALUE=DATE-TIME:20250727T170636Z
DESCRIPTION:Investigate the clues animals leave behind with a ranger.
LAST-MODIFIED;VALUE=DATE-TIME:20250801T183503Z
URL:https://tpwd.texas.gov/calendar/resaca-de-la-palma/adaptation-investig
 ations-1
END:VEVENT
BEGIN:VTIMEZONE
TZID:US/Central
X-LIC-LOCATION:US/Central
BEGIN:DAYLIGHT
DTSTART;VALUE=DATE-TIME:20250309T030000
TZNAME:CDT
TZOFFSETFROM:-0600
TZOFFSETTO:-0500
END:DAYLIGHT
END:VTIMEZONE
END:VCALENDAR
