BEGIN:VCALENDAR
VERSION:2.0
PRODID:-//Plone.org//NONSGML plone.app.event//EN
X-WR-TIMEZONE:US/Central
BEGIN:VEVENT
SUMMARY:Coffee with a Ranger
DTSTART;TZID=US/Central;VALUE=DATE-TIME:20241109T083000
DTEND;TZID=US/Central;VALUE=DATE-TIME:20241109T093000
DTSTAMP;VALUE=DATE-TIME:20260419T154422Z
UID:83f01f7d6b0b486cb6fbbf35dbca5d52
CONTACT:Kennie Merbach\, (325) 949-4757\, mackenzie.merbach@tpwd.texas.gov
CREATED;VALUE=DATE-TIME:20241026T214459Z
DESCRIPTION:Enjoy a cup of coffee and chat with park staff.
LAST-MODIFIED;VALUE=DATE-TIME:20241029T142759Z
URL:https://tpwd.texas.gov/calendar/san-angelo/coffee-with-a-ranger-2
END:VEVENT
BEGIN:VTIMEZONE
TZID:US/Central
X-LIC-LOCATION:US/Central
BEGIN:STANDARD
DTSTART;VALUE=DATE-TIME:20241103T010000
TZNAME:CST
TZOFFSETFROM:-0500
TZOFFSETTO:-0600
END:STANDARD
END:VTIMEZONE
END:VCALENDAR
