BEGIN:VCALENDAR
VERSION:2.0
PRODID:-//Plone.org//NONSGML plone.app.event//EN
X-WR-TIMEZONE:US/Central
BEGIN:VEVENT
SUMMARY:Creatures of the Night
DTSTART;TZID=US/Central;VALUE=DATE-TIME:20251010T193000
DTEND;TZID=US/Central;VALUE=DATE-TIME:20251010T203000
DTSTAMP;VALUE=DATE-TIME:20260420T083152Z
UID:2b7d923c6a6344a1b8dd84ca66bd40a6
CONTACT:Kennie Merbach\, (325) 277-6568\, mackenzie.merbach@tpwd.texas.gov
CREATED;VALUE=DATE-TIME:20250930T212510Z
DESCRIPTION:Come for a mothing good time!
LAST-MODIFIED;VALUE=DATE-TIME:20250930T212526Z
URL:https://tpwd.texas.gov/calendar/san-angelo/creatures-of-the-night
END:VEVENT
BEGIN:VTIMEZONE
TZID:US/Central
X-LIC-LOCATION:US/Central
BEGIN:DAYLIGHT
DTSTART;VALUE=DATE-TIME:20250309T030000
TZNAME:CDT
TZOFFSETFROM:-0600
TZOFFSETTO:-0500
END:DAYLIGHT
END:VTIMEZONE
END:VCALENDAR
