BEGIN:VCALENDAR
VERSION:2.0
PRODID:-//Plone.org//NONSGML plone.app.event//EN
X-WR-TIMEZONE:US/Central
BEGIN:VEVENT
SUMMARY:Deaf Outdoors Day and Awareness
DTSTART;TZID=US/Central;VALUE=DATE-TIME:20250920T100000
DTEND;TZID=US/Central;VALUE=DATE-TIME:20250920T110000
DTSTAMP;VALUE=DATE-TIME:20260420T160350Z
UID:eeada47d79f04aac8495115737576a5a
CONTACT:Kennie Merbach\, (325) 949-4757\, mackenzie.merbach@tpwd.texas.gov
CREATED;VALUE=DATE-TIME:20250907T213225Z
DESCRIPTION:Weather this or that? Learn the signs of nature.
LAST-MODIFIED;VALUE=DATE-TIME:20250907T213230Z
URL:https://tpwd.texas.gov/calendar/san-angelo/deaf-outdoors-day-and-aware
 ness-1
END:VEVENT
BEGIN:VTIMEZONE
TZID:US/Central
X-LIC-LOCATION:US/Central
BEGIN:DAYLIGHT
DTSTART;VALUE=DATE-TIME:20250309T030000
TZNAME:CDT
TZOFFSETFROM:-0600
TZOFFSETTO:-0500
END:DAYLIGHT
END:VTIMEZONE
END:VCALENDAR
