BEGIN:VCALENDAR
VERSION:2.0
PRODID:-//Plone.org//NONSGML plone.app.event//EN
X-WR-TIMEZONE:US/Central
BEGIN:VEVENT
SUMMARY:Happy Tails & Trails
DTSTART;TZID=US/Central;VALUE=DATE-TIME:20250329T140000
DTEND;TZID=US/Central;VALUE=DATE-TIME:20250329T153000
DTSTAMP;VALUE=DATE-TIME:20260419T185816Z
UID:41752a27183b4a6cbea06c0e5d4bd1f2
CONTACT:Kennie Merbach\, (325) 949-4757\, mackenzie.merbach@tpwd.texas.gov
CREATED;VALUE=DATE-TIME:20250228T230416Z
DESCRIPTION:Take a hike with your pet!
LAST-MODIFIED;VALUE=DATE-TIME:20250228T230425Z
URL:https://tpwd.texas.gov/calendar/san-angelo/happy-tails-trails
END:VEVENT
BEGIN:VTIMEZONE
TZID:US/Central
X-LIC-LOCATION:US/Central
BEGIN:DAYLIGHT
DTSTART;VALUE=DATE-TIME:20250309T030000
TZNAME:CDT
TZOFFSETFROM:-0600
TZOFFSETTO:-0500
END:DAYLIGHT
END:VTIMEZONE
END:VCALENDAR
