BEGIN:VCALENDAR
VERSION:2.0
PRODID:-//Plone.org//NONSGML plone.app.event//EN
X-WR-TIMEZONE:US/Central
BEGIN:VEVENT
SUMMARY:iNature Hike
DTSTART;TZID=US/Central;VALUE=DATE-TIME:20241013T130000
DTEND;TZID=US/Central;VALUE=DATE-TIME:20241013T143000
DTSTAMP;VALUE=DATE-TIME:20260419T193736Z
UID:a40b5853beea4727a92e6180b119eab2
CONTACT:Kennie Merbach\, (325) 949-4757\, mackenzie.merbach@tpwd.texas.gov
CREATED;VALUE=DATE-TIME:20240929T211431Z
DESCRIPTION:Explore the park and learn how to use iNaturalist!
LAST-MODIFIED;VALUE=DATE-TIME:20241001T211640Z
URL:https://tpwd.texas.gov/calendar/san-angelo/inature-hike
END:VEVENT
BEGIN:VTIMEZONE
TZID:US/Central
X-LIC-LOCATION:US/Central
BEGIN:DAYLIGHT
DTSTART;VALUE=DATE-TIME:20240310T030000
TZNAME:CDT
TZOFFSETFROM:-0600
TZOFFSETTO:-0500
END:DAYLIGHT
END:VTIMEZONE
END:VCALENDAR
