BEGIN:VCALENDAR
VERSION:2.0
PRODID:-//Plone.org//NONSGML plone.app.event//EN
X-WR-TIMEZONE:US/Central
BEGIN:VEVENT
SUMMARY:Nature Hike
DTSTART;TZID=US/Central;VALUE=DATE-TIME:20241110T140000
DTEND;TZID=US/Central;VALUE=DATE-TIME:20241110T150000
DTSTAMP;VALUE=DATE-TIME:20260419T175237Z
UID:b4ffa299105c436481ed5c1831572812
RRULE:FREQ=WEEKLY;UNTIL=20241123T000000;BYDAY=SA
EXDATE;TZID=US/Central:20241116T000000,20241130T000000,20241207T000000,202
 41214T000000,20241221T000000,20241228T000000
CONTACT:Kennie Merbach\, (325) 949-4757\, mackenzie.merbach@tpwd.texas.gov
CREATED;VALUE=DATE-TIME:20241027T212534Z
DESCRIPTION:Learn about the plants and animals of San Angelo.
LAST-MODIFIED;VALUE=DATE-TIME:20241123T185803Z
URL:https://tpwd.texas.gov/calendar/san-angelo/nature-hike-1
END:VEVENT
BEGIN:VTIMEZONE
TZID:US/Central
X-LIC-LOCATION:US/Central
BEGIN:STANDARD
DTSTART;VALUE=DATE-TIME:20241103T010000
TZNAME:CST
TZOFFSETFROM:-0500
TZOFFSETTO:-0600
END:STANDARD
END:VTIMEZONE
END:VCALENDAR
