BEGIN:VCALENDAR
VERSION:2.0
PRODID:-//Plone.org//NONSGML plone.app.event//EN
X-WR-TIMEZONE:US/Central
BEGIN:VEVENT
SUMMARY:Women's Hike
DTSTART;TZID=US/Central;VALUE=DATE-TIME:20251026T181500
DTEND;TZID=US/Central;VALUE=DATE-TIME:20251026T200000
DTSTAMP;VALUE=DATE-TIME:20260419T155426Z
UID:37e8d72c8cfe4b3c8079f54e8904930e
CONTACT:Kennie Merbach\, (325) 949-4757\, mackenzie.merbach@tpwd.texas.gov
CREATED;VALUE=DATE-TIME:20250111T202637Z
DESCRIPTION:Join us for our monthly women's hike!
LAST-MODIFIED;VALUE=DATE-TIME:20250930T205401Z
URL:https://tpwd.texas.gov/calendar/san-angelo/womens-hike-4
END:VEVENT
BEGIN:VTIMEZONE
TZID:US/Central
X-LIC-LOCATION:US/Central
BEGIN:DAYLIGHT
DTSTART;VALUE=DATE-TIME:20250309T030000
TZNAME:CDT
TZOFFSETFROM:-0600
TZOFFSETTO:-0500
END:DAYLIGHT
END:VTIMEZONE
END:VCALENDAR
