BEGIN:VCALENDAR
VERSION:2.0
PRODID:-//Plone.org//NONSGML plone.app.event//EN
X-WR-TIMEZONE:US/Central
BEGIN:VEVENT
SUMMARY:First Day Beach Walk
DTSTART;TZID=US/Central;VALUE=DATE-TIME:20260101T090000
DTSTAMP;VALUE=DATE-TIME:20260419T211954Z
UID:5eb29edb10514006b2175f9be94d5216
CONTACT:Laura Neu\, laura.neu@tpwd.texas.gov
CREATED;VALUE=DATE-TIME:20251105T192418Z
DESCRIPTION:Start your resolutions off right by joining us for a hike on t
 he beach on the first day of the new year!
LAST-MODIFIED;VALUE=DATE-TIME:20251119T182242Z
URL:https://tpwd.texas.gov/calendar/sea-rim/first-day-beach-walk
END:VEVENT
BEGIN:VTIMEZONE
TZID:US/Central
X-LIC-LOCATION:US/Central
BEGIN:STANDARD
DTSTART;VALUE=DATE-TIME:20251102T010000
TZNAME:CST
TZOFFSETFROM:-0500
TZOFFSETTO:-0600
END:STANDARD
END:VTIMEZONE
END:VCALENDAR
